BEGIN:VCALENDAR
VERSION:2.0
PRODID:-//wp-events-plugin.com//7.2.3.1//EN
TZID:America/Los_Angeles
X-WR-TIMEZONE:America/Los_Angeles
BEGIN:VEVENT
UID:74@temeculaoliveoil.com
DTSTART;TZID=America/Los_Angeles:20250208T100000
DTEND;TZID=America/Los_Angeles:20250208T123000
DTSTAMP:20250125T182717Z
URL:https://temeculaoliveoil.com/events/ranch-tour-saturday-february-8th-2
 025/
SUMMARY:Ranch Tour Saturday February 8th\, 2025
DESCRIPTION:[vc_row][vc_column][ultimate_info_banner banner_title="Ranch To
 ur Saturday February 8th\, 2025" banner_desc="We look forward to seeing 'o
 live' you soon!" banner_image="id^225104|url^https://temeculaoliveoil.com/
 wp-content/uploads/2024/10/tours-at-ovr.png|caption^null|alt^null|title^to
 urs at ovr|description^null" overlay_color="#8fad8a" title_font_style="fon
 t-weight:bold\;" desc_font_style="font-style:italic\;\,font-weight:bold\;"
 ][/vc_column][/vc_row][vc_row][vc_column][vc_column_text css=""]\nOlive Vi
 ew Ranch\nRanch Tour Saturday February 8th\, 2025 – Olive View Ranch Tou
 r! Join Us for an extensive guided tour of our Olive View Ranch &amp\; lea
 rn all about how we grow\, harvest and press our exceptional extra virgin 
 olive oil. Complimentary tastings of our current harvest olive oils &am
 p\; vinegars will be included! Tours start at 10am\, our ranch is open d
 aily from 8am-4pm.  *Kids under 12 are FREE but still require reservation
 s\, please contact Customer Care to schedule.\n[/vc_column_text][/vc_colum
 n][/vc_row][vc_row][vc_column][vc_column_text css=""]\nWho We Are\nOur fam
 ily-owned and operated business has been elevating age-old processes with 
 the latest in all-natural agricultural science since 2001. So from traditi
 onal cold-pressing techniques to Kai-Zen soil practices\, we pride ourselv
 es on the flavorful nutrition we provide. And the breath-taking land that 
 makes it all possible! And our combination of the ancient and cutting-edge
  produces some of the finest olive oils and balsamicos in the world.\nAt t
 he Temecula Olive Oil Company\, our trees love our land as much as we do. 
 And when it comes to olive oil\, the best ingredients require perfect grow
 ing conditions. So that’s why we chose Southern California. For its unma
 tched climate and soil potential. And over the decades\, we have naturally
  enriched and invested in our land to ensure our products only grow better
  and more flavorful\, year after year. In addition we are devoted to Kai-Z
 en agriculture techniques. This is a style of farming that consistently im
 proves the soil without harsh chemicals or dangerous additives. For exampl
 e\, our weed control strategy utilizes the all-natural\, slightly acidic w
 ater we extract from our olives during the cold-pressing process. And ever
 y one of our delicious products carries our commitment directly from our t
 rees to your table.\n[/vc_column_text][/vc_column][/vc_row][vc_row][vc_col
 umn][vc_masonry_media_grid css="" grid_id="vc_gid:1736895763153-fe06a7bc-4
 073-2" include="227404\,227393\,227386\,227361\,227362\,227140\,227138\,22
 7136\,227135\,227096\,227093\,227086\,227084\,227085\,225609\,225610\,2270
 83\,226622\,225611\,225100\,225103\,225104\,225211\,225483\,225099\,218444
 \,218429\,190347\,188791\,188809\,188795\,103\,126\,54"][/vc_column][/vc_r
 ow]
ATTACH;FMTTYPE=image/jpeg:https://temeculaoliveoil.com/wp-content/uploads/
 2024/10/JR6A1401-scaled.jpg
CATEGORIES:Events,Ranch,Tours
LOCATION:The Ranch\, 46780 Hwy 371\, Aguanga\, California\, 92536\, United 
 States
GEO:33.444704;-116.858444
X-APPLE-STRUCTURED-LOCATION;VALUE=URI;X-ADDRESS=46780 Hwy 371\, Aguanga\, C
 alifornia\, 92536\, United States;X-APPLE-RADIUS=100;X-TITLE=The Ranch:geo
 :33.444704,-116.858444
END:VEVENT
BEGIN:VTIMEZONE
TZID:America/Los_Angeles
X-LIC-LOCATION:America/Los_Angeles
BEGIN:STANDARD
DTSTART:20241103T010000
TZOFFSETFROM:-0700
TZOFFSETTO:-0800
TZNAME:PST
END:STANDARD
END:VTIMEZONE
END:VCALENDAR